BEGIN:VCALENDAR
VERSION:2.0
PRODID:-//Art Alliance of Monmouth County - ECPv6.15.20//NONSGML v1.0//EN
CALSCALE:GREGORIAN
METHOD:PUBLISH
X-WR-CALNAME:Art Alliance of Monmouth County
X-ORIGINAL-URL:https://artallianceofmonmouth.org
X-WR-CALDESC:Events for Art Alliance of Monmouth County
REFRESH-INTERVAL;VALUE=DURATION:PT1H
X-Robots-Tag:noindex
X-PUBLISHED-TTL:PT1H
BEGIN:VTIMEZONE
TZID:America/New_York
BEGIN:DAYLIGHT
TZOFFSETFROM:-0500
TZOFFSETTO:-0400
TZNAME:EDT
DTSTART:20250309T070000
END:DAYLIGHT
BEGIN:STANDARD
TZOFFSETFROM:-0400
TZOFFSETTO:-0500
TZNAME:EST
DTSTART:20251102T060000
END:STANDARD
BEGIN:DAYLIGHT
TZOFFSETFROM:-0500
TZOFFSETTO:-0400
TZNAME:EDT
DTSTART:20260308T070000
END:DAYLIGHT
BEGIN:STANDARD
TZOFFSETFROM:-0400
TZOFFSETTO:-0500
TZNAME:EST
DTSTART:20261101T060000
END:STANDARD
BEGIN:DAYLIGHT
TZOFFSETFROM:-0500
TZOFFSETTO:-0400
TZNAME:EDT
DTSTART:20270314T070000
END:DAYLIGHT
BEGIN:STANDARD
TZOFFSETFROM:-0400
TZOFFSETTO:-0500
TZNAME:EST
DTSTART:20271107T060000
END:STANDARD
END:VTIMEZONE
BEGIN:VEVENT
DTSTART;TZID=America/New_York:20260502T080000
DTEND;TZID=America/New_York:20260603T170000
DTSTAMP:20260420T072251
CREATED:20250829T195118Z
LAST-MODIFIED:20250901T151828Z
UID:4787-1777708800-1780506000@artallianceofmonmouth.org
SUMMARY:Themes: "Animals" & "Artwork By Children From Canvas Art Studio"
DESCRIPTION:Opening 5/2Children’s Exhibit – Curated by Ellen BurgessJudge: Jude HarzerJuried • (Members Only) • All MediaWindow Exhibit – Jude HarzerReceiving 4/29\, Pickup 6/3 \n\n\n\nEntry FormDownload
URL:https://artallianceofmonmouth.org/event/themes-animals-artwork-by-children-from-canvas-art-studio/
CATEGORIES:Exhibition Schedule
END:VEVENT
BEGIN:VEVENT
DTSTART;TZID=America/New_York:20260531T080000
DTEND;TZID=America/New_York:20260531T170000
DTSTAMP:20260420T072251
CREATED:20260412T123238Z
LAST-MODIFIED:20260412T123800Z
UID:5017-1780214400-1780246800@artallianceofmonmouth.org
SUMMARY:Paint Red Bank 2026
DESCRIPTION:Plein Air Event\n\n\n\nPaint our beautiful town and share your work with the public. Red Bank offers scenic river views\, historic architecture\, and charming streetscapes\, parks and parklets. After painting\, works will be installed at ArtSpace for jurying and display \n\n\n\nDate: Sunday\, May 31\, 2026. Work will be on display through June 13. Rain Date: June 7 (see important rain dateinformation below)Location: Check-in at Art Alliance (33 Monmouth St); Exhibition at ArtSpace (99 Monmouth St); painting all over town.Juror: Pratima Rao\, award-winning plein air painter and art educator.Entry Fee: $35; Proceeds benefit Art Alliance of Monmouth County\, a 501(c)(3) non-profit arts org.Prizes: $300\, $200\, $100 plus honorable mentions.Pre-Registration is Required: Registration deadline is May 25 11:59 pm or when 35 registrations are received\, whichever occurs first. Register on-line at www.artallianceofmonmouth.org beginning April 25\, Coming Soon.. \n\n\n\nSize Limits of Paintings: No side can be longer than 20” INCLUDING FRAMINGAccepted Media: Oil\, acrylic\, watercolor\, gouache\, pastel\, tempera. \n\n\n\nHanging Requirements: All paintings must be wired for hanging\, frames recommended but not required.Opportunity for preparation at Art Alliance after painting.Sales/Commissions: Works can be for sale or NFS. No commission will be charged. \n\n\n\nPaint Red Bank 2026 ProspectusDownload Prospectus
URL:https://artallianceofmonmouth.org/event/paint-red-bank-2026/
CATEGORIES:Exhibition Schedule
END:VEVENT
BEGIN:VEVENT
DTSTART;TZID=America/New_York:20260606T180000
DTEND;TZID=America/New_York:20260701T200000
DTSTAMP:20260420T072251
CREATED:20250829T200039Z
LAST-MODIFIED:20250829T200740Z
UID:4791-1780768800-1782936000@artallianceofmonmouth.org
SUMMARY:Ebba Osborne Memorial Award Exhibition
DESCRIPTION:Opening: Saturday\, June 6th \n\n\n\nTheme I: “Shades of Blue”Theme II: “Gathering”Judge: Frank MainieriJuried • Open (members & non-members) • All Media Awards: $100\, $50 & $50Window Exhibit – Frank MainieriReceiving-6/3\, Pickup: Tues-Wed\, 6/30–7/1*Gallery Closes July 1 \n\n\n\n\nDownload Entry Form
URL:https://artallianceofmonmouth.org/event/ebba-osborne-memorial-award-exhibition-2/
CATEGORIES:Exhibition Schedule
END:VEVENT
END:VCALENDAR