BEGIN:VCALENDAR
VERSION:2.0
PRODID:-//Art Alliance of Monmouth County - ECPv6.15.20//NONSGML v1.0//EN
CALSCALE:GREGORIAN
METHOD:PUBLISH
X-ORIGINAL-URL:https://artallianceofmonmouth.org
X-WR-CALDESC:Events for Art Alliance of Monmouth County
REFRESH-INTERVAL;VALUE=DURATION:PT1H
X-Robots-Tag:noindex
X-PUBLISHED-TTL:PT1H
BEGIN:VTIMEZONE
TZID:America/New_York
BEGIN:DAYLIGHT
TZOFFSETFROM:-0500
TZOFFSETTO:-0400
TZNAME:EDT
DTSTART:20240310T070000
END:DAYLIGHT
BEGIN:STANDARD
TZOFFSETFROM:-0400
TZOFFSETTO:-0500
TZNAME:EST
DTSTART:20241103T060000
END:STANDARD
BEGIN:DAYLIGHT
TZOFFSETFROM:-0500
TZOFFSETTO:-0400
TZNAME:EDT
DTSTART:20250309T070000
END:DAYLIGHT
BEGIN:STANDARD
TZOFFSETFROM:-0400
TZOFFSETTO:-0500
TZNAME:EST
DTSTART:20251102T060000
END:STANDARD
BEGIN:DAYLIGHT
TZOFFSETFROM:-0500
TZOFFSETTO:-0400
TZNAME:EDT
DTSTART:20260308T070000
END:DAYLIGHT
BEGIN:STANDARD
TZOFFSETFROM:-0400
TZOFFSETTO:-0500
TZNAME:EST
DTSTART:20261101T060000
END:STANDARD
END:VTIMEZONE
BEGIN:VEVENT
DTSTART;TZID=America/New_York:20250714T000000
DTEND;TZID=America/New_York:20250714T235959
DTSTAMP:20260422T074333
CREATED:20250612T172208Z
LAST-MODIFIED:20250612T172209Z
UID:4524-1752451200-1752537599@artallianceofmonmouth.org
SUMMARY:Gallery Closes
DESCRIPTION:
URL:https://artallianceofmonmouth.org/event/gallery-closes-2/
CATEGORIES:Exhibition Schedule
END:VEVENT
BEGIN:VEVENT
DTSTART;TZID=America/New_York:20250628T140000
DTEND;TZID=America/New_York:20250713T200000
DTSTAMP:20260422T074333
CREATED:20250612T171530Z
LAST-MODIFIED:20250701T194919Z
UID:4521-1751119200-1752436800@artallianceofmonmouth.org
SUMMARY:JAWS: 50th Anniversary Art Exhibition
DESCRIPTION:June 28th to July 13thOpening Reception: Saturday\, June 28th – 5:00pm to 8:00pmCurated by Ken Harman Hashimoto \n\n\n\nGallery Hours:Saturday\, June 28th – 2:00pm to 8:00pmSunday\, June 29th – 2:00pm to 8:00pmThursday\, July 3rd – 2:00pm to 8:00pmSaturday\, July 5th – 2:00pm to 8:00pmSunday\, July 6th – 2:00pm to 8:00pmSaturday\, July 12th – 2:00pm to 8:00pmSunday\, July 13th – 2:00pm to 8:00pm \n\n\n\nJoin us this Summer in the picturesque seaside town of Red Bank\, New Jersey for an exhibition featuring original artwork\, limited edition prints\, and more.Participating artists include: Chris Austin\, Greg Aronowitz\, Stephanie Brown\, James Chapman\, Sam Wolfe Connelly\, Sonny Day\, Grzegorz Domaradzki & Krzysztof Domaradzki\, DULK\, Jason Edmiston\, Bob Eggleton\, Abigail Goldman\, Josh Keyes\, Brian Mashburn\, Danielle Murray\, Adam Lister\, Neil M Perry\, Phantom City Creative (pictured)\, David Rice\, Sad Salesman\, Greg “Craola” Simkins\, Lorien Stern\, Tyler Stout\, Meghan Stratman\, Matty Ryan Tobin\, Sachin Teng\, and Geoff Trapp \n\n\n\nJAWS Art Show Press ReleaseDownload\n\n\n\n\n\n\n\n\nDULK\n\n\n\nChris Austin
URL:https://artallianceofmonmouth.org/event/jaws-50th-anniversary-art-exhibition/
CATEGORIES:Exhibition Schedule
ATTACH;FMTTYPE=image/jpeg:https://artallianceofmonmouth.org/wp-content/uploads/2025/06/Dulk-Web-Ready-1.jpg
END:VEVENT
BEGIN:VEVENT
DTSTART;TZID=America/New_York:20250625T000000
DTEND;TZID=America/New_York:20250625T235959
DTSTAMP:20260422T074333
CREATED:20250523T151840Z
LAST-MODIFIED:20250613T134313Z
UID:3721-1750809600-1750895999@artallianceofmonmouth.org
SUMMARY:Gallery Closes
DESCRIPTION:
URL:https://artallianceofmonmouth.org/event/gallery-closes/
CATEGORIES:Exhibition Schedule
END:VEVENT
BEGIN:VEVENT
DTSTART;TZID=America/New_York:20250315T000000
DTEND;TZID=America/New_York:20250315T235959
DTSTAMP:20260422T074333
CREATED:20250529T170421Z
LAST-MODIFIED:20250529T171352Z
UID:4157-1741996800-1742083199@artallianceofmonmouth.org
SUMMARY:38th Annual Juried Exhibition
DESCRIPTION:ELIGIBLE WORK: Open to all artists (over age 18) in all media. Work must be recent and not previously shown at the Art Alliance. Works to be hung may not exceed 48″ wide x 72″ high (inclusive of frame) and not exceed 75 lbs.\, must be com- pletely dry\, suitably framed and ready for hanging. Synthetic glass is required for all works that measure over 18″ x 24″\, if normally covered with glass. Sculptors must bring stands with accepted work on receiving day. Original work only: NO REPRODUCTIONS. \n\n\n\nJUDGE: DEBRA J. FORCE is a specialist in traditional American Fine Art of the 18th through the 20th Centuries. She holds a Bachelor of Arts degree from Ohio Wesleyan University\, and a Master of Arts degree and doctoral work from the University of Pennsylvania. Ms. Force became Director of the CIGNA (formerly INA) Museum and Art Collection\, a distinguished corporate collection of traditional and contemporary American art in Philadelphia. She served as Senior Vice President and Head of the American Paintings Department at Christie’s in New York\, followed by the position of Director of American Art at Hirschl & Adler Galleries\, Inc.\, New York. She became Director of Beacon Hill Fine Art\, a new gallery devoted to American art in New York. In 1999\, Ms. Force formed Debra Force Fine Art\, Inc. (New York)\, which presents exhibitions\, partici- pates in art fairs\, and has extensive inventory of American paintings\, drawings\, and sculpture\, while also providing appraisal and consulting services in all related areas of American art. She has appeared as a specialist appraiser for Antiques Roadshow\, the PBS series produced by WGBH\, Boston\, for over 25 years. She is also a member of numerous museums and professional organizations\, including the Art Dealers Association of America and ArtTable\, and serves on several art-related boards and committees. \n\n\n\nSUBMISSION DEADLINE: Saturday\, March 15\, 2025 \n\n\n\nIMPORTANT: Please download & read the entire prospectus for complete details including important info about how to name your image files. Files that do not conform to the naming instructions will NOT be seen by the juror.Download Prospectus\n\n\n\n\nCLICK HERE TO ENTER\n\n\n\n\n\n\n \n   Loading EntryThingy. Receive\, manage and jury your calls for entries…
URL:https://artallianceofmonmouth.org/event/38th-annual-juried-exhibition/
END:VEVENT
END:VCALENDAR